BEGIN:VCALENDAR
VERSION:2.0
PRODID:-//Steve Reinharz - ECPv6.15.20//NONSGML v1.0//EN
CALSCALE:GREGORIAN
METHOD:PUBLISH
X-ORIGINAL-URL:https://stevereinharz.com
X-WR-CALDESC:Events for Steve Reinharz
REFRESH-INTERVAL;VALUE=DURATION:PT1H
X-Robots-Tag:noindex
X-PUBLISHED-TTL:PT1H
BEGIN:VTIMEZONE
TZID:America/Los_Angeles
BEGIN:DAYLIGHT
TZOFFSETFROM:-0800
TZOFFSETTO:-0700
TZNAME:PDT
DTSTART:20250309T100000
END:DAYLIGHT
BEGIN:STANDARD
TZOFFSETFROM:-0700
TZOFFSETTO:-0800
TZNAME:PST
DTSTART:20251102T090000
END:STANDARD
BEGIN:DAYLIGHT
TZOFFSETFROM:-0800
TZOFFSETTO:-0700
TZNAME:PDT
DTSTART:20260308T100000
END:DAYLIGHT
BEGIN:STANDARD
TZOFFSETFROM:-0700
TZOFFSETTO:-0800
TZNAME:PST
DTSTART:20261101T090000
END:STANDARD
BEGIN:DAYLIGHT
TZOFFSETFROM:-0800
TZOFFSETTO:-0700
TZNAME:PDT
DTSTART:20270314T100000
END:DAYLIGHT
BEGIN:STANDARD
TZOFFSETFROM:-0700
TZOFFSETTO:-0800
TZNAME:PST
DTSTART:20271107T090000
END:STANDARD
END:VTIMEZONE
BEGIN:VEVENT
DTSTART;TZID=America/Los_Angeles:20260325T153000
DTEND;TZID=America/Los_Angeles:20260325T163000
DTSTAMP:20260424T140912
CREATED:20260216T145212Z
LAST-MODIFIED:20260216T155238Z
UID:1193-1774452600-1774456200@stevereinharz.com
SUMMARY:SIA Education: Built to Act: Designing for Autonomous Security Response
DESCRIPTION:Security hardware has become smarter. Analytics\, sensors\, and connected platforms have all advanced. But smart is not the same as responsive. This session explores the shift toward real-time autonomous response\, where systems act independently without waiting for human input. We’ll examine how physical security environments are evolving to support devices that can detect\, deter\, escalate\, and document on their own. From perimeter protection to mobile patrols\, the panel will highlight how voice deterrence\, edge-based AI\, and cloud coordination are reshaping the way sites are secured. Attendees will hear from experts involved in designing\, deploying\, and managing autonomous-ready systems\, and leave with a clear understanding of where these technologies fit into the future of security.
URL:https://stevereinharz.com/event/sia-education-built-to-act-designing-for-autonomous-security-response/
LOCATION:Venrtian 203
ATTACH;FMTTYPE=image/jpeg:https://stevereinharz.com/wp-content/uploads/2026/02/1.jpg
END:VEVENT
END:VCALENDAR