BEGIN:VCALENDAR
VERSION:2.0
PRODID:-//Steve Reinharz - ECPv6.15.17.1//NONSGML v1.0//EN
CALSCALE:GREGORIAN
METHOD:PUBLISH
X-WR-CALNAME:Steve Reinharz
X-ORIGINAL-URL:https://stevereinharz.com
X-WR-CALDESC:Events for Steve Reinharz
REFRESH-INTERVAL;VALUE=DURATION:PT1H
X-Robots-Tag:noindex
X-PUBLISHED-TTL:PT1H
BEGIN:VTIMEZONE
TZID:America/Detroit
BEGIN:DAYLIGHT
TZOFFSETFROM:-0500
TZOFFSETTO:-0400
TZNAME:EDT
DTSTART:20250309T070000
END:DAYLIGHT
BEGIN:STANDARD
TZOFFSETFROM:-0400
TZOFFSETTO:-0500
TZNAME:EST
DTSTART:20251102T060000
END:STANDARD
BEGIN:DAYLIGHT
TZOFFSETFROM:-0500
TZOFFSETTO:-0400
TZNAME:EDT
DTSTART:20260308T070000
END:DAYLIGHT
BEGIN:STANDARD
TZOFFSETFROM:-0400
TZOFFSETTO:-0500
TZNAME:EST
DTSTART:20261101T060000
END:STANDARD
BEGIN:DAYLIGHT
TZOFFSETFROM:-0500
TZOFFSETTO:-0400
TZNAME:EDT
DTSTART:20270314T070000
END:DAYLIGHT
BEGIN:STANDARD
TZOFFSETFROM:-0400
TZOFFSETTO:-0500
TZNAME:EST
DTSTART:20271107T060000
END:STANDARD
END:VTIMEZONE
BEGIN:VEVENT
DTSTART;TZID=America/Detroit:20260428T153000
DTEND;TZID=America/Detroit:20260428T160000
DTSTAMP:20260421T052942
CREATED:20260216T150707Z
LAST-MODIFIED:20260318T165514Z
UID:1205-1777390200-1777392000@stevereinharz.com
SUMMARY:The Security Event (TSE) - Innovation in the Public Sector: Delivering Secure Access at Scale
DESCRIPTION:Steve Reinharz to speak during a panel presentation titled “Innovation in the Public Sector: Delivering Secure Access at Scale“
URL:https://stevereinharz.com/event/the-security-event-tse/
ATTACH;FMTTYPE=image/jpeg:https://stevereinharz.com/wp-content/uploads/2026/02/3.jpg
END:VEVENT
BEGIN:VEVENT
DTSTART;TZID=America/Detroit:20260513T080000
DTEND;TZID=America/Detroit:20260513T170000
DTSTAMP:20260421T052942
CREATED:20260216T151501Z
LAST-MODIFIED:20260318T173537Z
UID:1208-1778659200-1778691600@stevereinharz.com
SUMMARY:University of British Columbia Security forum
DESCRIPTION:Steve Reinharz to speak at this event.  More TBD.
URL:https://stevereinharz.com/event/university-of-british-columbia-security-forum/
ATTACH;FMTTYPE=image/jpeg:https://stevereinharz.com/wp-content/uploads/2026/02/2.jpg
END:VEVENT
END:VCALENDAR